BEGIN:VCALENDAR
VERSION:2.0
CALSCALE:GREGORIAN
PRODID:adamgibbons/ics
METHOD:PUBLISH
X-PUBLISHED-TTL:PT1H
BEGIN:VEVENT
UID:2176@devent.cz
SUMMARY:FaVU na Brno Art Week
DTSTAMP:20260420T015939Z
DTSTART:20260420T060000Z
DTEND:20260426T215900Z
URL:https://devent.cz/event/favu-na-brno-art-week
GEO:49.2027005;16.5880212
LOCATION:Areál VUT Kraví hora - Rybkova 23\, Brno
STATUS:CONFIRMED
CATEGORIES:Brno,FaVU,art,výtvarné umění
END:VEVENT
END:VCALENDAR
